BEGIN:VCALENDAR
VERSION:2.0
PRODID:-//Beth Torah Benny Rok Campus - ECPv6.15.20//NONSGML v1.0//EN
CALSCALE:GREGORIAN
METHOD:PUBLISH
X-ORIGINAL-URL:https://btbrc.org
X-WR-CALDESC:Events for Beth Torah Benny Rok Campus
REFRESH-INTERVAL;VALUE=DURATION:PT1H
X-Robots-Tag:noindex
X-PUBLISHED-TTL:PT1H
BEGIN:VTIMEZONE
TZID:America/New_York
BEGIN:DAYLIGHT
TZOFFSETFROM:-0500
TZOFFSETTO:-0400
TZNAME:EDT
DTSTART:20220313T070000
END:DAYLIGHT
BEGIN:STANDARD
TZOFFSETFROM:-0400
TZOFFSETTO:-0500
TZNAME:EST
DTSTART:20221106T060000
END:STANDARD
BEGIN:DAYLIGHT
TZOFFSETFROM:-0500
TZOFFSETTO:-0400
TZNAME:EDT
DTSTART:20230312T070000
END:DAYLIGHT
BEGIN:STANDARD
TZOFFSETFROM:-0400
TZOFFSETTO:-0500
TZNAME:EST
DTSTART:20231105T060000
END:STANDARD
BEGIN:DAYLIGHT
TZOFFSETFROM:-0500
TZOFFSETTO:-0400
TZNAME:EDT
DTSTART:20240310T070000
END:DAYLIGHT
BEGIN:STANDARD
TZOFFSETFROM:-0400
TZOFFSETTO:-0500
TZNAME:EST
DTSTART:20241103T060000
END:STANDARD
BEGIN:DAYLIGHT
TZOFFSETFROM:-0500
TZOFFSETTO:-0400
TZNAME:EDT
DTSTART:20250309T070000
END:DAYLIGHT
BEGIN:STANDARD
TZOFFSETFROM:-0400
TZOFFSETTO:-0500
TZNAME:EST
DTSTART:20251102T060000
END:STANDARD
END:VTIMEZONE
BEGIN:VEVENT
DTSTART;TZID=America/New_York:20240128T100000
DTEND;TZID=America/New_York:20240128T100000
DTSTAMP:20260419T174448
CREATED:20230920T152823Z
LAST-MODIFIED:20231217T050643Z
UID:10001813-1706436000-1706436000@btbrc.org
SUMMARY:Game Day
DESCRIPTION:Join Sisterhood for fun and games and a scrumptious Sunday brunch! \nREGISTER \n \nPlay Mah Jongg\, Scrabble\, Yahtzee\, Canasta\, Poker\, Monopoly\, Banana Grams\, Rummikub — or your choice of board or card game.  Bring your group or ask to be connected with one.  Ask about available instruction. \n$36 includes brunch. Registration required by January 22nd. For questions\, contact Judy Feinman at juelf@bellsouth.net. \n 
URL:https://btbrc.org/event/game-day/
LOCATION:Nacron Chapel\, 20350 NE 26th Ave\,\, North Miami Beach\, FL\, 33180\, United States
CATEGORIES:Sisterhood
END:VEVENT
BEGIN:VEVENT
DTSTART;TZID=America/New_York:20240118T193000
DTEND;TZID=America/New_York:20240118T193000
DTSTAMP:20260419T174448
CREATED:20230906T064647Z
LAST-MODIFIED:20231212T182340Z
UID:10001803-1705606200-1705606200@btbrc.org
SUMMARY:Culture Club: Popcorn & Movie
DESCRIPTION:Members $7.50 Community $10 \nRegister HERE
URL:https://btbrc.org/event/culture-club-popcorn-movie/
LOCATION:Nacron Chapel\, 20350 NE 26th Ave\,\, North Miami Beach\, FL\, 33180\, United States
CATEGORIES:Sisterhood
END:VEVENT
BEGIN:VEVENT
DTSTART;TZID=America/New_York:20240107T100000
DTEND;TZID=America/New_York:20240107T100000
DTSTAMP:20260419T174448
CREATED:20230906T064414Z
LAST-MODIFIED:20231128T201638Z
UID:10001802-1704621600-1704621600@btbrc.org
SUMMARY:Paid up Brunch
DESCRIPTION:Sisterhood members in good standing are invited to our annual Paid Up Membership event Sunday\, January 7th at 10 a.m. \nPlan for a delicious brunch and fun entertainment. Questions? Contact Adrienne Plotkin at adrienneplotkin@gmail.com or (305) 761-8189. \n\nREGISTER
URL:https://btbrc.org/event/paid-up-brunch/
LOCATION:Nacron Chapel\, 20350 NE 26th Ave\,\, North Miami Beach\, FL\, 33180\, United States
CATEGORIES:Sisterhood
END:VEVENT
BEGIN:VEVENT
DTSTART;TZID=America/New_York:20231228T193000
DTEND;TZID=America/New_York:20231228T193000
DTSTAMP:20260419T174448
CREATED:20230819T225115Z
LAST-MODIFIED:20231114T164630Z
UID:10001759-1703791800-1703791800@btbrc.org
SUMMARY:Understanding the War in Israel
DESCRIPTION:Sisterhood Culture Club is pleased to welcome Shoshana Bryen\, Senior Director of the Jewish Policy Center\, to speak on Understanding the War in Israel on Thursday\, December 28th\, 7:30 p.m. at Beth Torah Benny Rok Campus. \n			\n									REGISTER\n			 \n  \n \nBryen is a leading specialist in Middle East affairs. The depth and breadth of her knowledge and understanding\, along with her ability to clearly present facts without political overtones or wishful thinking\, make her a particularly eloquent speaker. Formerly Executive Director and Senior Director for Security Policy at the Jewish Institute for National Security of America (JINSA)\, Bryen was author of the widely republished JINSA Reports. She has worked with the Strategic Studies Institute of the U.S. Army War College and the Institute for National Security Studies in Tel Aviv\, and lectured at the National Defense University in Washington. Bryen coordinated programs in the Middle East that allowed more than 450 U.S. military officers to engage in discussions of issues that both unite and divide the United States\, Israel and Jordan. She also created a program to take cadets and midshipmen of U.S. service academies to Israel for a three-week work/study program giving hundreds of future officers a positive\, in-depth experience in Israel. She has taken Turkish and Israeli military officers to speak at the U.S. service academies and has lectured at the academies as well. In addition to the JINSA Reports\, Bryen’s work has appeared in The Wall Street Journal\, the New York Sun and Defense News\, to name a few\, and Culture Club is fortunate to have the opportunity to hear her perspectives.  
URL:https://btbrc.org/event/culture-club-lecture/
LOCATION:Nacron Chapel\, 20350 NE 26th Ave\,\, North Miami Beach\, FL\, 33180\, United States
CATEGORIES:Sisterhood
END:VEVENT
BEGIN:VEVENT
DTSTART;TZID=America/New_York:20231219T143000
DTEND;TZID=America/New_York:20231219T143000
DTSTAMP:20260419T174448
CREATED:20230819T223119Z
LAST-MODIFIED:20230819T223119Z
UID:10001753-1702996200-1702996200@btbrc.org
SUMMARY:ECA: Gymnastics JrK Closing
DESCRIPTION:
URL:https://btbrc.org/event/eca-gymnastics-jrk-closing/
LOCATION:Nacron Chapel\, 20350 NE 26th Ave\,\, North Miami Beach\, FL\, 33180\, United States
CATEGORIES:Early Childhood
END:VEVENT
BEGIN:VEVENT
DTSTART;TZID=America/New_York:20231115T180000
DTEND;TZID=America/New_York:20231115T180000
DTSTAMP:20260419T174448
CREATED:20231108T193600Z
LAST-MODIFIED:20231108T193600Z
UID:10001966-1700071200-1700071200@btbrc.org
SUMMARY:Pre-Needs Meeting
DESCRIPTION:
URL:https://btbrc.org/event/pre-needs-meeting/
LOCATION:Nacron Chapel\, 20350 NE 26th Ave\,\, North Miami Beach\, FL\, 33180\, United States
END:VEVENT
BEGIN:VEVENT
DTSTART;TZID=America/New_York:20230907T120000
DTEND;TZID=America/New_York:20230907T120000
DTSTAMP:20260419T174448
CREATED:20230803T174614Z
LAST-MODIFIED:20230803T174614Z
UID:10001682-1694088000-1694088000@btbrc.org
SUMMARY:Lunch with Pastors & Clergy for Rosh Hashanah
DESCRIPTION:
URL:https://btbrc.org/event/lunch-with-pastors-clergy-for-rosh-hashanah/
LOCATION:Nacron Chapel\, 20350 NE 26th Ave\,\, North Miami Beach\, FL\, 33180\, United States
CATEGORIES:Community Program
END:VEVENT
BEGIN:VEVENT
DTSTART;TZID=America/New_York:20230824T193000
DTEND;TZID=America/New_York:20230824T193000
DTSTAMP:20260419T174448
CREATED:20230712T020647Z
LAST-MODIFIED:20230811T162226Z
UID:10001522-1692905400-1692905400@btbrc.org
SUMMARY:Karaoke'n Kocktails
DESCRIPTION:Kick off the year with Karaoke ’n Kocktails Thursday\, August 24th at 7 p.m. Sisterhood members free but should register. Guests and non-members $5. Everyone receives one free drink coupon. Complimentary snacks.Questions? Call or text Etta Epstein at 786-556-3882. \nREGISTER
URL:https://btbrc.org/event/karaoke-kocktails/
LOCATION:Nacron Chapel\, 20350 NE 26th Ave\,\, North Miami Beach\, FL\, 33180\, United States
CATEGORIES:Sisterhood
ATTACH;FMTTYPE=image/jpeg:https://btbrc.org/wp-content/uploads/2023/07/karaokehomeevent.jpg
END:VEVENT
END:VCALENDAR