BEGIN:VCALENDAR
VERSION:2.0
PRODID:-//Beth Torah Benny Rok Campus - ECPv6.15.20//NONSGML v1.0//EN
CALSCALE:GREGORIAN
METHOD:PUBLISH
X-ORIGINAL-URL:https://btbrc.org
X-WR-CALDESC:Events for Beth Torah Benny Rok Campus
REFRESH-INTERVAL;VALUE=DURATION:PT1H
X-Robots-Tag:noindex
X-PUBLISHED-TTL:PT1H
BEGIN:VTIMEZONE
TZID:America/New_York
BEGIN:DAYLIGHT
TZOFFSETFROM:-0500
TZOFFSETTO:-0400
TZNAME:EDT
DTSTART:20230312T070000
END:DAYLIGHT
BEGIN:STANDARD
TZOFFSETFROM:-0400
TZOFFSETTO:-0500
TZNAME:EST
DTSTART:20231105T060000
END:STANDARD
BEGIN:DAYLIGHT
TZOFFSETFROM:-0500
TZOFFSETTO:-0400
TZNAME:EDT
DTSTART:20240310T070000
END:DAYLIGHT
BEGIN:STANDARD
TZOFFSETFROM:-0400
TZOFFSETTO:-0500
TZNAME:EST
DTSTART:20241103T060000
END:STANDARD
BEGIN:DAYLIGHT
TZOFFSETFROM:-0500
TZOFFSETTO:-0400
TZNAME:EDT
DTSTART:20250309T070000
END:DAYLIGHT
BEGIN:STANDARD
TZOFFSETFROM:-0400
TZOFFSETTO:-0500
TZNAME:EST
DTSTART:20251102T060000
END:STANDARD
BEGIN:DAYLIGHT
TZOFFSETFROM:-0500
TZOFFSETTO:-0400
TZNAME:EDT
DTSTART:20260308T070000
END:DAYLIGHT
BEGIN:STANDARD
TZOFFSETFROM:-0400
TZOFFSETTO:-0500
TZNAME:EST
DTSTART:20261101T060000
END:STANDARD
BEGIN:DAYLIGHT
TZOFFSETFROM:-0500
TZOFFSETTO:-0400
TZNAME:EDT
DTSTART:20270314T070000
END:DAYLIGHT
BEGIN:STANDARD
TZOFFSETFROM:-0400
TZOFFSETTO:-0500
TZNAME:EST
DTSTART:20271107T060000
END:STANDARD
END:VTIMEZONE
BEGIN:VEVENT
DTSTART;TZID=America/New_York:20260322T100000
DTEND;TZID=America/New_York:20260322T100000
DTSTAMP:20260419T132714
CREATED:20260223T214012Z
LAST-MODIFIED:20260305T162227Z
UID:10004926-1774173600-1774173600@btbrc.org
SUMMARY:Sisterhood Women's Seder
DESCRIPTION:REGISTER
URL:https://btbrc.org/event/sisterhood-womens-seder-2/
LOCATION:Nacron Chapel\, 20350 NE 26th Ave\,\, North Miami Beach\, FL\, 33180\, United States
CATEGORIES:Sisterhood
END:VEVENT
BEGIN:VEVENT
DTSTART;TZID=America/New_York:20260318T163000
DTEND;TZID=America/New_York:20260318T163000
DTSTAMP:20260419T132714
CREATED:20250821T203437Z
LAST-MODIFIED:20250821T203437Z
UID:10004703-1773851400-1773851400@btbrc.org
SUMMARY:Religious School: Passover Model Seder Family Program
DESCRIPTION:
URL:https://btbrc.org/event/religious-school-passover-model-seder-family-program/
LOCATION:Nacron Chapel\, 20350 NE 26th Ave\,\, North Miami Beach\, FL\, 33180\, United States
CATEGORIES:Scheck Family Religious School
END:VEVENT
BEGIN:VEVENT
DTSTART;TZID=America/New_York:20260310T093000
DTEND;TZID=America/New_York:20260310T093000
DTSTAMP:20260419T132714
CREATED:20250821T201652Z
LAST-MODIFIED:20250821T201652Z
UID:10004700-1773135000-1773135000@btbrc.org
SUMMARY:Man in My Life
DESCRIPTION:
URL:https://btbrc.org/event/man-in-my-life/
LOCATION:Nacron Chapel\, 20350 NE 26th Ave\,\, North Miami Beach\, FL\, 33180\, United States
CATEGORIES:Early Childhood
END:VEVENT
BEGIN:VEVENT
DTSTART;TZID=America/New_York:20260225T190000
DTEND;TZID=America/New_York:20260225T190000
DTSTAMP:20260419T132714
CREATED:20260127T202957Z
LAST-MODIFIED:20260127T202957Z
UID:10004895-1772046000-1772046000@btbrc.org
SUMMARY:Sisterhood & Hadassah Program
DESCRIPTION:
URL:https://btbrc.org/event/sisterhood-hadassah-program/
LOCATION:Nacron Chapel\, 20350 NE 26th Ave\,\, North Miami Beach\, FL\, 33180\, United States
CATEGORIES:Sisterhood
END:VEVENT
BEGIN:VEVENT
DTSTART;TZID=America/New_York:20260222T100000
DTEND;TZID=America/New_York:20260222T100000
DTSTAMP:20260419T132714
CREATED:20251224T175455Z
LAST-MODIFIED:20260120T183827Z
UID:10004803-1771754400-1771754400@btbrc.org
SUMMARY:Sisterhood: Game Day
DESCRIPTION:REGISTER
URL:https://btbrc.org/event/sisterhood-game-day-2/
LOCATION:Nacron Chapel\, 20350 NE 26th Ave\,\, North Miami Beach\, FL\, 33180\, United States
CATEGORIES:Sisterhood
END:VEVENT
BEGIN:VEVENT
DTSTART;TZID=America/New_York:20260125T190000
DTEND;TZID=America/New_York:20260125T190000
DTSTAMP:20260419T132714
CREATED:20251211T002505Z
LAST-MODIFIED:20260113T212013Z
UID:10004795-1769367600-1769367600@btbrc.org
SUMMARY:Cantor's Cabaret
DESCRIPTION:REGISTER
URL:https://btbrc.org/event/cantors-cabaret-2/
LOCATION:Nacron Chapel\, 20350 NE 26th Ave\,\, North Miami Beach\, FL\, 33180\, United States
CATEGORIES:Community Program
END:VEVENT
BEGIN:VEVENT
DTSTART;TZID=America/New_York:20251002T103000
DTEND;TZID=America/New_York:20251002T103000
DTSTAMP:20260419T132714
CREATED:20250725T234829Z
LAST-MODIFIED:20250725T234918Z
UID:10004528-1759401000-1759401000@btbrc.org
SUMMARY:Yom Kipur Teen Service (6th - 12th Grade)
DESCRIPTION:
URL:https://btbrc.org/event/yom-kipur-teen-service-6th-12th-grade/
LOCATION:Nacron Chapel\, 20350 NE 26th Ave\,\, North Miami Beach\, FL\, 33180\, United States
CATEGORIES:High Holy Days
END:VEVENT
BEGIN:VEVENT
DTSTART;TZID=America/New_York:20250923T103000
DTEND;TZID=America/New_York:20250923T170000
DTSTAMP:20260419T132714
CREATED:20250723T014844Z
LAST-MODIFIED:20250723T014844Z
UID:10004503-1758623400-1758646800@btbrc.org
SUMMARY:Rosh Hashanah Teen Service & Activities
DESCRIPTION:
URL:https://btbrc.org/event/rosh-hashanah-teen-service-activities/
LOCATION:Nacron Chapel\, 20350 NE 26th Ave\,\, North Miami Beach\, FL\, 33180\, United States
CATEGORIES:High Holy Days
END:VEVENT
BEGIN:VEVENT
DTSTART;TZID=America/New_York:20250909T170000
DTEND;TZID=America/New_York:20250909T170000
DTSTAMP:20260419T132714
CREATED:20250813T211806Z
LAST-MODIFIED:20250813T211806Z
UID:10004643-1757437200-1757437200@btbrc.org
SUMMARY:J2M Opening Meeting
DESCRIPTION:
URL:https://btbrc.org/event/j2m-opening-meeting/
LOCATION:Nacron Chapel\, 20350 NE 26th Ave\,\, North Miami Beach\, FL\, 33180\, United States
CATEGORIES:Bar & Bar Mitzvah Program
END:VEVENT
BEGIN:VEVENT
DTSTART;TZID=America/New_York:20250828T190000
DTEND;TZID=America/New_York:20250828T190000
DTSTAMP:20260419T132714
CREATED:20250618T150325Z
LAST-MODIFIED:20250714T150423Z
UID:10004382-1756407600-1756407600@btbrc.org
SUMMARY:SIsterhood Karaoke Night
DESCRIPTION:REGISTER
URL:https://btbrc.org/event/sisterhood-karaoke-night/
LOCATION:Nacron Chapel\, 20350 NE 26th Ave\,\, North Miami Beach\, FL\, 33180\, United States
CATEGORIES:Sisterhood
END:VEVENT
BEGIN:VEVENT
DTSTART;TZID=America/New_York:20250611T183000
DTEND;TZID=America/New_York:20250611T183000
DTSTAMP:20260419T132714
CREATED:20250520T211522Z
LAST-MODIFIED:20250520T211634Z
UID:10004343-1749666600-1749666600@btbrc.org
SUMMARY:Sisterhood: End of Year Dessert Party
DESCRIPTION:REGISTER
URL:https://btbrc.org/event/sisterhood-end-of-year-program/
LOCATION:Nacron Chapel\, 20350 NE 26th Ave\,\, North Miami Beach\, FL\, 33180\, United States
CATEGORIES:Sisterhood
END:VEVENT
BEGIN:VEVENT
DTSTART;TZID=America/New_York:20250525T190000
DTEND;TZID=America/New_York:20250525T190000
DTSTAMP:20260419T132714
CREATED:20250416T192728Z
LAST-MODIFIED:20250416T192908Z
UID:10004255-1748199600-1748199600@btbrc.org
SUMMARY:Jazz Night with Cantor Marcos & Annie Rojzman
DESCRIPTION:
URL:https://btbrc.org/event/jazz-night-with-cantor-marcos-annie-rojzman/
LOCATION:Nacron Chapel\, 20350 NE 26th Ave\,\, North Miami Beach\, FL\, 33180\, United States
CATEGORIES:Community Program
END:VEVENT
BEGIN:VEVENT
DTSTART;TZID=America/New_York:20250430T163000
DTEND;TZID=America/New_York:20250430T163000
DTSTAMP:20260419T132714
CREATED:20250404T174931Z
LAST-MODIFIED:20250407T204121Z
UID:10004247-1746030600-1746030600@btbrc.org
SUMMARY:Religious School Yom Hazikaron/Yom Ha'Atzmaut
DESCRIPTION:
URL:https://btbrc.org/event/religious-school-yom-ha-atzmaut/
LOCATION:Nacron Chapel\, 20350 NE 26th Ave\,\, North Miami Beach\, FL\, 33180\, United States
CATEGORIES:Scheck Family Religious School
END:VEVENT
BEGIN:VEVENT
DTSTART;TZID=America/New_York:20250423T163000
DTEND;TZID=America/New_York:20250423T163000
DTSTAMP:20260419T132714
CREATED:20250404T022631Z
LAST-MODIFIED:20250404T175223Z
UID:10004246-1745425800-1745425800@btbrc.org
SUMMARY:Religious School Yom Ha Shoah
DESCRIPTION:
URL:https://btbrc.org/event/religious-school-yom-ha-shoah/
LOCATION:Nacron Chapel\, 20350 NE 26th Ave\,\, North Miami Beach\, FL\, 33180\, United States
CATEGORIES:Scheck Family Religious School
END:VEVENT
BEGIN:VEVENT
DTSTART;TZID=America/New_York:20250330T100000
DTEND;TZID=America/New_York:20250330T100000
DTSTAMP:20260419T132714
CREATED:20250130T182943Z
LAST-MODIFIED:20250218T213741Z
UID:10004205-1743328800-1743328800@btbrc.org
SUMMARY:Sisterhood: Women's Seder
DESCRIPTION:REGISTER
URL:https://btbrc.org/event/sisterhood-womens-seder/
LOCATION:Nacron Chapel\, 20350 NE 26th Ave\,\, North Miami Beach\, FL\, 33180\, United States
CATEGORIES:Sisterhood
END:VEVENT
BEGIN:VEVENT
DTSTART;TZID=America/New_York:20250310T180000
DTEND;TZID=America/New_York:20250310T180000
DTSTAMP:20260419T132714
CREATED:20250226T231625Z
LAST-MODIFIED:20250227T015828Z
UID:10004217-1741629600-1741629600@btbrc.org
SUMMARY:From Rockets to Rainbow Screening
DESCRIPTION:REGISTER
URL:https://btbrc.org/event/from-rockets-to-rainbow-screening/2025-03-10/
LOCATION:Nacron Chapel\, 20350 NE 26th Ave\,\, North Miami Beach\, FL\, 33180\, United States
CATEGORIES:Community Program
END:VEVENT
BEGIN:VEVENT
DTSTART;TZID=America/New_York:20250309T110000
DTEND;TZID=America/New_York:20250309T110000
DTSTAMP:20260419T132714
CREATED:20250128T152300Z
LAST-MODIFIED:20250128T152300Z
UID:10004188-1741518000-1741518000@btbrc.org
SUMMARY:March of the Living Orientation
DESCRIPTION:
URL:https://btbrc.org/event/march-of-the-living-orientation/
LOCATION:Nacron Chapel\, 20350 NE 26th Ave\,\, North Miami Beach\, FL\, 33180\, United States
CATEGORIES:Community Program
END:VEVENT
BEGIN:VEVENT
DTSTART;TZID=America/New_York:20250226T200000
DTEND;TZID=America/New_York:20250226T200000
DTSTAMP:20260419T132714
CREATED:20250128T011612Z
LAST-MODIFIED:20250129T163443Z
UID:10004186-1740600000-1740600000@btbrc.org
SUMMARY:Young Professionals: Yoga
DESCRIPTION:REGISTER
URL:https://btbrc.org/event/young-professionals-yoga/
LOCATION:Nacron Chapel\, 20350 NE 26th Ave\,\, North Miami Beach\, FL\, 33180\, United States
CATEGORIES:Community Program
END:VEVENT
BEGIN:VEVENT
DTSTART;TZID=America/New_York:20250219T163000
DTEND;TZID=America/New_York:20250219T163000
DTSTAMP:20260419T132714
CREATED:20250122T021624Z
LAST-MODIFIED:20250122T021624Z
UID:10004184-1739982600-1739982600@btbrc.org
SUMMARY:Religious School Tu Bishvat Family Program with JNF
DESCRIPTION:
URL:https://btbrc.org/event/religious-school-tu-bishvat-family-program-with-jnf/
LOCATION:Nacron Chapel\, 20350 NE 26th Ave\,\, North Miami Beach\, FL\, 33180\, United States
CATEGORIES:Scheck Family Religious School
END:VEVENT
BEGIN:VEVENT
DTSTART;TZID=America/New_York:20250126T100000
DTEND;TZID=America/New_York:20250126T100000
DTSTAMP:20260419T132715
CREATED:20241214T192135Z
LAST-MODIFIED:20241218T092335Z
UID:10004080-1737885600-1737885600@btbrc.org
SUMMARY:Sisterhood: Game Day
DESCRIPTION:
URL:https://btbrc.org/event/sisterhood-game-day/
LOCATION:Nacron Chapel\, 20350 NE 26th Ave\,\, North Miami Beach\, FL\, 33180\, United States
CATEGORIES:Sisterhood
END:VEVENT
BEGIN:VEVENT
DTSTART;TZID=America/New_York:20241215T100000
DTEND;TZID=America/New_York:20241215T100000
DTSTAMP:20260419T132715
CREATED:20240624T163908Z
LAST-MODIFIED:20241115T184753Z
UID:10003117-1734256800-1734256800@btbrc.org
SUMMARY:Sisterhood: Paid Up Membership Event
DESCRIPTION:REGISTER
URL:https://btbrc.org/event/sisterhood-paid-up-membership-event/
LOCATION:Nacron Chapel\, 20350 NE 26th Ave\,\, North Miami Beach\, FL\, 33180\, United States
CATEGORIES:Sisterhood
END:VEVENT
BEGIN:VEVENT
DTSTART;TZID=America/New_York:20241204T183000
DTEND;TZID=America/New_York:20241204T183000
DTSTAMP:20260419T132715
CREATED:20241021T203040Z
LAST-MODIFIED:20241023T180845Z
UID:10003658-1733337000-1733337000@btbrc.org
SUMMARY:Social Action: Yoga\, Mindfulness and Meditation
DESCRIPTION:REGISTER
URL:https://btbrc.org/event/social-action-yoga-mindfulness-and-meditation-2/
LOCATION:Nacron Chapel\, 20350 NE 26th Ave\,\, North Miami Beach\, FL\, 33180\, United States
CATEGORIES:Social Action
END:VEVENT
BEGIN:VEVENT
DTSTART;TZID=America/New_York:20241107T190000
DTEND;TZID=America/New_York:20241107T190000
DTSTAMP:20260419T132715
CREATED:20241023T191438Z
LAST-MODIFIED:20241023T191451Z
UID:10003662-1731006000-1731006000@btbrc.org
SUMMARY:Social Action: Game Night
DESCRIPTION:REGISTER
URL:https://btbrc.org/event/social-action-game-night-2/
LOCATION:Nacron Chapel\, 20350 NE 26th Ave\,\, North Miami Beach\, FL\, 33180\, United States
CATEGORIES:Social Action
END:VEVENT
BEGIN:VEVENT
DTSTART;TZID=America/New_York:20241029T170000
DTEND;TZID=America/New_York:20241029T170000
DTSTAMP:20260419T132715
CREATED:20241024T020216Z
LAST-MODIFIED:20241024T020216Z
UID:10003664-1730221200-1730221200@btbrc.org
SUMMARY:J2M: Mitzvah Project Night
DESCRIPTION:
URL:https://btbrc.org/event/j2m-mitzvah-project-night/
LOCATION:Nacron Chapel\, 20350 NE 26th Ave\,\, North Miami Beach\, FL\, 33180\, United States
CATEGORIES:Bar & Bar Mitzvah Program
END:VEVENT
BEGIN:VEVENT
DTSTART;TZID=America/New_York:20241012T103000
DTEND;TZID=America/New_York:20241012T103000
DTSTAMP:20260419T132715
CREATED:20240803T015549Z
LAST-MODIFIED:20240803T015549Z
UID:10003231-1728729000-1728729000@btbrc.org
SUMMARY:Teen Service (6th - 12th grade)
DESCRIPTION:
URL:https://btbrc.org/event/teen-service-6th-12th-grade/
LOCATION:Nacron Chapel\, 20350 NE 26th Ave\,\, North Miami Beach\, FL\, 33180\, United States
CATEGORIES:High Holy Days
END:VEVENT
BEGIN:VEVENT
DTSTART;TZID=America/New_York:20241009T184500
DTEND;TZID=America/New_York:20241009T184500
DTSTAMP:20260419T132715
CREATED:20240912T182554Z
LAST-MODIFIED:20240919T033005Z
UID:10003346-1728499500-1728499500@btbrc.org
SUMMARY:Social Action: Yoga\, Mindfulness and Meditation
DESCRIPTION:REGISTER
URL:https://btbrc.org/event/social-action-yoga-mindfulness-and-meditation/
LOCATION:Nacron Chapel\, 20350 NE 26th Ave\,\, North Miami Beach\, FL\, 33180\, United States
CATEGORIES:Social Action
END:VEVENT
BEGIN:VEVENT
DTSTART;TZID=America/New_York:20241007T091500
DTEND;TZID=America/New_York:20241007T091500
DTSTAMP:20260419T132715
CREATED:20240922T010616Z
LAST-MODIFIED:20240922T010616Z
UID:10003622-1728292500-1728292500@btbrc.org
SUMMARY:Kool'am's Mindful Yoga Monday
DESCRIPTION:
URL:https://btbrc.org/event/koolams-mindful-yoga-monday/
LOCATION:Nacron Chapel\, 20350 NE 26th Ave\,\, North Miami Beach\, FL\, 33180\, United States
CATEGORIES:KOOL'AM
END:VEVENT
BEGIN:VEVENT
DTSTART;TZID=America/New_York:20241003T103000
DTEND;TZID=America/New_York:20241003T103000
DTSTAMP:20260419T132715
CREATED:20240803T003549Z
LAST-MODIFIED:20240809T201344Z
UID:10003203-1727951400-1727951400@btbrc.org
SUMMARY:Teen Service & Activities (6th - 12th grade)
DESCRIPTION:
URL:https://btbrc.org/event/teen-service-activities-6th-12th-grade-3/
LOCATION:Nacron Chapel\, 20350 NE 26th Ave\,\, North Miami Beach\, FL\, 33180\, United States
CATEGORIES:High Holy Days
END:VEVENT
BEGIN:VEVENT
DTSTART;TZID=America/New_York:20241002T190000
DTEND;TZID=America/New_York:20241002T190000
DTSTAMP:20260419T132715
CREATED:20241002T175348Z
LAST-MODIFIED:20241002T175348Z
UID:10003636-1727895600-1727895600@btbrc.org
SUMMARY:Social Action: Game Night
DESCRIPTION:
URL:https://btbrc.org/event/social-action-game-night/
LOCATION:Nacron Chapel\, 20350 NE 26th Ave\,\, North Miami Beach\, FL\, 33180\, United States
CATEGORIES:Social Action
END:VEVENT
BEGIN:VEVENT
DTSTART;TZID=America/New_York:20240917T193000
DTEND;TZID=America/New_York:20240917T193000
DTSTAMP:20260419T132715
CREATED:20240522T154907Z
LAST-MODIFIED:20240922T010441Z
UID:10002924-1726601400-1726601400@btbrc.org
SUMMARY:It Takes Two to Torah: Abby Pogrebin and Rabbi Dov Linzer
DESCRIPTION:REGISTER
URL:https://btbrc.org/event/abby-pogrebin-and-rabbi-dov-linzer/
LOCATION:Nacron Chapel\, 20350 NE 26th Ave\,\, North Miami Beach\, FL\, 33180\, United States
CATEGORIES:Community Program
END:VEVENT
END:VCALENDAR